Workbook

Sheet Счета
A1: Отчёт по дебиторской задолженности — данные
A2: Шаблон к статье «Отчёт по дебиторке» · saldio.ru/blog/otchet-po-debitorskoy-zadolzhennosti
A3: Как пользоваться:
A4: Жёлтые ячейки заполняете вы (по одной строке на открытый счёт). Столбец «Интервал» и лист «Сводка» считаются сами.
A5: Строка 8 — пример, замените своими данными. Строк можно добавлять до 37 (или растяните формулы ниже).
A7: Контрагент | B7: Остаток, ₽ | C7: Дней просрочки | D7: Интервал старения | E7: Статус
A8: ООО «Ромашка» | B8: 120000 | C8: 45 | D8: =IF(C8="","",IF(C8<=0,"текущая",IF(C8<=30,"1–30",IF(C8<=60,"31–60",IF(C8<=90,"61–90","90+"))))) | E8: просрочен
D9: =IF(C9="","",IF(C9<=0,"текущая",IF(C9<=30,"1–30",IF(C9<=60,"31–60",IF(C9<=90,"61–90","90+")))))
D10: =IF(C10="","",IF(C10<=0,"текущая",IF(C10<=30,"1–30",IF(C10<=60,"31–60",IF(C10<=90,"61–90","90+")))))
D11: =IF(C11="","",IF(C11<=0,"текущая",IF(C11<=30,"1–30",IF(C11<=60,"31–60",IF(C11<=90,"61–90","90+")))))
D12: =IF(C12="","",IF(C12<=0,"текущая",IF(C12<=30,"1–30",IF(C12<=60,"31–60",IF(C12<=90,"61–90","90+")))))
D13: =IF(C13="","",IF(C13<=0,"текущая",IF(C13<=30,"1–30",IF(C13<=60,"31–60",IF(C13<=90,"61–90","90+")))))
D14: =IF(C14="","",IF(C14<=0,"текущая",IF(C14<=30,"1–30",IF(C14<=60,"31–60",IF(C14<=90,"61–90","90+")))))
D15: =IF(C15="","",IF(C15<=0,"текущая",IF(C15<=30,"1–30",IF(C15<=60,"31–60",IF(C15<=90,"61–90","90+")))))
D16: =IF(C16="","",IF(C16<=0,"текущая",IF(C16<=30,"1–30",IF(C16<=60,"31–60",IF(C16<=90,"61–90","90+")))))
D17: =IF(C17="","",IF(C17<=0,"текущая",IF(C17<=30,"1–30",IF(C17<=60,"31–60",IF(C17<=90,"61–90","90+")))))
D18: =IF(C18="","",IF(C18<=0,"текущая",IF(C18<=30,"1–30",IF(C18<=60,"31–60",IF(C18<=90,"61–90","90+")))))
D19: =IF(C19="","",IF(C19<=0,"текущая",IF(C19<=30,"1–30",IF(C19<=60,"31–60",IF(C19<=90,"61–90","90+")))))
D20: =IF(C20="","",IF(C20<=0,"текущая",IF(C20<=30,"1–30",IF(C20<=60,"31–60",IF(C20<=90,"61–90","90+")))))
... D37: =IF(C37="","",IF(C37<=0,"текущая",IF(C37<=30,"1–30",IF(C37<=60,"31–60",IF(C37<=90,"61–90","90+")))))

Sheet Сводка
A1: Сводка отчёта по дебиторке
A2: Считается по листу «Счета». Синие ячейки — формулы, жёлтые (прошлый период, вводные DSO) — заполняете вы.
A4: Старение (aging)
A5: Интервал | B5: Сумма остатка, ₽ | C5: Доля
A6: текущая | B6: =SUMIF(Счета!$D$8:$D$37,$A6,Счета!$B$8:$B$37) | C6: =IF($B$11=0,0,B6/$B$11)
A7: 1–30 | B7: =SUMIF(Счета!$D$8:$D$37,$A7,Счета!$B$8:$B$37) | C7: =IF($B$11=0,0,B7/$B$11)
A8: 31–60 | B8: =SUMIF(Счета!$D$8:$D$37,$A8,Счета!$B$8:$B$37) | C8: =IF($B$11=0,0,B8/$B$11)
A9: 61–90 | B9: =SUMIF(Счета!$D$8:$D$37,$A9,Счета!$B$8:$B$37) | C9: =IF($B$11=0,0,B9/$B$11)
A10: 90+ | B10: =SUMIF(Счета!$D$8:$D$37,$A10,Счета!$B$8:$B$37) | C10: =IF($B$11=0,0,B10/$B$11)
A11: Итого | B11: =SUM(B6:B10) | C11: =IF(B11=0,0,SUM(B6:B10)/B11)
A13: Ключевые показатели — текущий и прошлый период
A14: Показатель | B14: Текущий период | C14: Прошлый период
A15: Общий остаток, ₽ | B15: =B11
A16: Просроченная задолженность, ₽ | B16: =B7+B8+B9+B10
A17: Доля просроченной задолженности | B17: =IF(B11=0,0,(B7+B8+B9+B10)/B11)
A18: DSO, дней | B18: =IF(C22=0,0,ROUND(C20*C21/C22,0))
A20: Расчёт DSO (вводные) | B20: Средняя дебиторка за период, ₽
B21: Число дней периода | C21: 30
B22: Выручка за период, ₽
A24: DSO = средняя дебиторка × число дней ÷ выручка. Сравните с вашим сроком оплаты и с прошлым периодом.
A26: Топ-должники (крупнейшие открытые долги)
A27: Отсортируйте лист «Счета» по остатку и перенесите 5–10 крупнейших.
A28: Контрагент | B28: Остаток, ₽ | C28: Дней просрочки | D28: Статус
A29: ООО «Ромашка» | B29: 120000 | C29: 45 | D29: просрочен
